Workbook

Sheet прил1
B1: Приложение № 1
A2: к решению Собрания Депутатов Щекинского сельсовета
B3: Рыльского района
B4: "О бюджете Щекинского сельсовета Рыльского района
A5: Курской области на 2021 год и плановый период 2022-2023 годы"
A6: от ________ №____
A7: Источники внутреннего финансирования дефицита
A8: бюджета Щекинского сельсовета Рыльского района Курской области на 2021 год
C10: рублей
A11: Код группы, подгруппы, статьи и вида источников | B11: Наименование | C11: Сумма на 2021 год | D11: дефицит-профицит | E11: доходы | F11: расходы | G11: дефицит расчетный 5%
A12: 000 01 00 00 00 00 0000 000 | B12: ИСТОЧНИКИ ВНУТРЕННЕГО ФИНАНСИРОВАНИЯ ДЕФИЦИТОВ БЮДЖЕТОВ | C12: =C13+C18+C23 -> 0 | D12: =+E12-F12 -> 0 | E12: =+прил5!D14 -> 1934760 | F12: =+прил9!I10 -> 1934760 | G12: =+прил5!D15*5% -> 40000.7
A13: 000 01 02 00 00 00 0000 000 | B13: Кредиты кредитных организаций в валюте Российской Федерации | C13: =+C14+C16 -> 0
A14: 000 01 02 00 00 00 0000 700 | B14: Получение кредитов от кредитных организаций в валюте Российской Федерации | C14: =+C15 -> 0
A15: 000 01 02 00 00 10 0000 710 | B15: Получение кредитов от кредитных организаций бюджетами поселений в валюте Российской Федерации
A16: 000 01 02 00 00 00 0000 800 | B16: Погашение кредитов, предоставленных кредитными организациями в валюте Российской Федерации | C16: =+C17 -> 0
A17: 000 01 02 00 00 10 0000 810 | B17: Погашение бюджетами поселений кредитов от кредитных организаций в валюте Российской Федерации
A18: 000 01 03 01 00 00 0000 000 | B18: Бюджетные кредиты от других бюджетов бюджетной системы Российской Федерации | C18: =+C19+C21 -> 0
A19: 000 01 03 01 00 00 0000 700 | B19: Получение бюджетных кредитов от других бюджетов бюджетной системы Российской Федерации в валюте Российской Федерации | C19: =C20 -> 0
A20: 000 01 03 01 00 10 0000 710 | B20: Получение кредитов от других бюджетов бюджетной системы Российской Федерации бюджетами поселений в валюте Российской Федерации | C20: 0
A21: 000 01 03 01 00 00 0000 800 | B21: Погашение бюджетных кредитов, полученных от других бюджетов бюджетной системы Российской Федерации в валюте Российской Федерации | C21: =C22 -> 0
A22: 000 01 03 01 00 10 0000 810 | B22: Погашение бюджетами поселений кредитов от других бюджетов бюджетной системы Российской Федерации в валюте Российской Федерации | C22: 0
A23: 000 01 05 00 00 00 0000 000 | B23: Изменение остатков средств на счетах по учету средств бюджета | C23: =C24+C28 -> 0 | E23: =C23-D23 -> 0
A24: 000 01 05 00 00 00 0000 500 | B24: Увеличение остатков средств бюджетов | C24: =C25 -> -1934760
A25: 000 01 05 02 00 00 0000 500 | B25: Увеличение прочих остатков средств бюджетов | C25: =C26 -> -1934760
A26: 000 01 05 02 01 00 0000 510 | B26: Увеличение прочих остатков денежных средств бюджетов | C26: =C27 -> -1934760
A27: 000 01 05 02 01 10 0000 510 | B27: Увеличение прочих остатков денежных средств бюджетов поселений | C27: =-E12-C15-C20 -> -1934760
A28: 000 01 05 00 00 00 0000 600 | B28: Уменьшение остатков средств бюджетов | C28: =C29 -> 1934760
A29: 000 01 05 02 00 00 0000 600 | B29: Уменьшение прочих остатков средств бюджетов | C29: =C30 -> 1934760
A30: 000 01 05 02 01 00 0000 610 | B30: Уменьшение прочих остатков денежных средств бюджетов | C30: =C31 -> 1934760
A31: 000 01 05 02 01 10 0000 610 | B31: Уменьшение прочих остатков денежных средств бюджетов поселений | C31: =F12+C17-C22 -> 1934760

Sheet прил2
A1: Приложение №2
A2: к решению Собрания Депутатов Щекинского сельсовета
B3: Рыльского района от _______ № ___
C4: "О бюджете Щекинского сельсовета Рыльского района
B5: Курской области на 2021 год и плановый период 2022-2023 годы"
A7: Источники внутреннего финансирования дефицита
A8: бюджета Щекинского сельсовета Рыльского района Курской области на 2022 г-2023годы
C10: рублей | E10: 2022 | I10: 2023
A11: Код группы, подгруппы, статьи и вида источников | B11: Наименование | C11: Сумма на 2022 год | D11: Сумма на 2023 год | E11: дефицит-профицит | F11: доходы | G11: расходы | H11: дефицит расчетный 5% | I11: дефицит-профицит | J11: доходы | K11: расходы | L11: дефицит расчетный 5%
A12: 000 01 00 00 00 00 0000 000 | B12: ИСТОЧНИКИ ВНУТРЕННЕГО ФИНАНСИРОВАНИЯ ДЕФИЦИТОВ БЮДЖЕТОВ | C12: =C13+C18+C23 -> 0 | D12: =D13+D18+D23 -> 0 | E12: =+F12-G12 -> 0 | F12: =прил6!D11 -> 1139542 | G12: =прил10!I10 -> 1139542 | H12: =прил6!D12*15% -> 121255.95 | I12: =+J12-K12 -> 0 | J12: =прил6!E11 -> 1128038 | K12: =прил10!J10 -> 1128038 | L12: =прил6!E12*15% -> 122282.7
A13: 000 01 02 00 00 00 0000 000 | B13: Кредиты кредитных организаций в валюте Российской Федерации | C13: =+C14+C16 -> 0 | D13: =+D14+D16 -> 0
A14: 000 01 02 00 00 00 0000 700 | B14: Получение кредитов от кредитных организаций в валюте Российской Федерации | C14: =+C15 -> 0 | D14: =+D15 -> 0
A15: 000 01 02 00 00 10 0000 710 | B15: Получение кредитов от кредитных организаций бюджетами поселений в валюте Российской Федерации
A16: 000 01 02 00 00 00 0000 800 | B16: Погашение кредитов, предоставленных кредитными организациями в валюте Российской Федерации | C16: =+C17 -> 0 | D16: =+D17 -> 0
A17: 000 01 02 00 00 10 0000 810 | B17: Погашение бюджетами поселений кредитов от кредитных организаций в валюте Российской Федерации | C17: =-прил1!C15 -> 0 | D17: =-C15 -> 0
A18: 000 01 03 01 00 00 0000 000 | B18: Бюджетные кредиты от других бюджетов бюджетной системы Российской Федерации | C18: =+C19+C21 -> 0 | D18: =+D19+D21 -> 0
A19: 000 01 03 01 00 00 0000 700 | B19: Получение бюджетных кредитов от других бюджетов бюджетной системы Российской Федерации в валюте Российской Федерации | C19: =C20 -> 0 | D19: =D20 -> 0
A20: 000 01 03 01 00 10 0000 710 | B20: Получение кредитов от других бюджетов бюджетной системы Российской Федерации бюджетами поселений в валюте Российской Федерации
A21: 000 01 03 01 00 00 0000 800 | B21: Погашение бюджетных кредитов, полученных от других бюджетов бюджетной системы Российской Федерации в валюте Российской Федерации | C21: =C22 -> 0 | D21: =D22 -> 0
A22: 000 01 03 01 00 10 0000 810 | B22: Погашение бюджетами поселений кредитов от других бюджетов бюджетной системы Российской Федерации в валюте Российской Федерации
A23: 000 01 05 00 00 00 0000 000 | B23: Изменение остатков средств на счетах по учету средств бюджета | C23: =C24+C28 -> 0 | D23: =D24+D28 -> 0
A24: 000 01 05 00 00 00 0000 500 | B24: Увеличение остатков средств бюджетов | C24: =C25 -> -1139542 | D24: =D25 -> -1128038
A25: 000 01 05 02 00 00 0000 500 | B25: Увеличение прочих остатков средств бюджетов | C25: =C26 -> -1139542 | D25: =D26 -> -1128038
A26: 000 01 05 02 01 00 0000 510 | B26: Увеличение прочих остатков денежных средств бюджетов | C26: =C27 -> -1139542 | D26: =D27 -> -1128038
A27: 000 01 05 02 01 10 0000 510 | B27: Увеличение прочих остатков денежных средств бюджетов поселений | C27: =-F12-C15-C20 -> -1139542 | D27: =-J12-D15-D20 -> -1128038
A28: 000 01 05 00 00 00 0000 600 | B28: Уменьшение остатков средств бюджетов | C28: =C29 -> 1139542 | D28: =D29 -> 1128038
A29: 000 01 05 02 00 00 0000 600 | B29: Уменьшение прочих остатков средств бюджетов | C29: =C30 -> 1139542 | D29: =D30 -> 1128038
A30: 000 01 05 02 01 00 0000 610 | B30: Уменьшение прочих остатков денежных средств бюджетов | C30: =C31 -> 1139542 | D30: =D31 -> 1128038
A31: 000 01 05 02 01 10 0000 610 | B31: Уменьшение прочих остатков денежных средств бюджетов поселений | C31: =G12-C17+C22 -> 1139542 | D31: =K12-D17+D22 -> 1128038

Sheet прил3
A1: Приложение №3
A2: к решению Собрания Депутатов Щекинского сельсовета
A3: Рыльского района
A4: "О бюджете Щекинского сельсовета Рыльского района
A5: Курской области на 2021 год и на плановый период 2022 и 2023 годов"
A6: от __________ №____
A8: Перечень главных администраторов доходов
A9: бюджета Щекинского сельсовета Рыльского района Курской области
A11: Код главного администратора доходов | B11: Код бюджетной классификации Российской Федерации доходов бюджета | C11: Наименование главного администратора доходов бюджета муниципального образования
A12: Администрация Щекинского сельсовета Рыльского района
A13: 001 | B13: 1 08 04020 01 0000 110 | C13: Государственная пошлина за совершение нотариальных действий должностными лицами органов местного самоуправления, уполномоченными в соответствии с законодательными актами Российской Федерации на совершение нотариальных действий
A14: 001 | B14: 1 11 01050 10 0000 120 | C14: Доходы в виде прибыли, приходящейся на доли в уставных (складочных) капиталах хозяйственных товариществ и обществ, или дивидендов по акциям, принадлежащим сельским поселениям
A15: 001 | B15: 1 11 02085 10 0000 120 | C15: Доходы от размещения сумм, аккумулируемых в ходе проведения аукционов по продаже акций, находящихся в собственности сельских поселений
A16: 001 | B16: 1 11 03050 10 0000 120 | C16: Проценты, полученные от предоставления бюджетных кредитов внутри страны за счет средств бюджетов сельских поселений
A17: 001 | B17: 1 11 05025 10 0000 120 | C17: Доходы, получаемые в виде арендной платы, а также средства от продажи права на заключение договоров аренды за земли, находящиеся в собственности сельских поселений (за исключением земельных участков муниципальных бюджетных и автономных учреждений)
A18: 001 | B18: 1 11 05075 10 0000 120 | C18: Доходы от сдачи в аренду имущества, составляющего казну сельских поселений (за исключением земельных участков)
A19: 001 | B19: 1 11 05093 10 0000 120 | C19: Доходы от предоставления на платной основе парковок (парковочных мест), расположенных на автомобильных дорогах общего пользования местного значения и местах внеуличной дорожной сети, относящихся к собственности сельских поселений
A20: 001 | B20: 1 11 07015 10 0000 120 | C20: Доходы от перечисления части прибыли, остающейся после уплаты налогов и иных обязательных платежей муниципальных унитарных предприятий, созданных сельскими поселениями
A21: 001 | B21: 1 11 08050 10 0000 120 | C21: Средства, получаемые от передачи имущества, находящегося в собственности сельских поселений (за исключением имущества муниципальных бюджетных и автономных учреждений, а также имущества муниципальных унитарных предприятий, в том числе казенных), в залог, в доверительное управление
A22: 001 | B22: 1 11 09015 10 0000 120 | C22: Доходы от распоряжения правами на результаты интеллектуальной деятельности военного, специального и двойного назначения, находящимися в собственности сельских поселений
A23: 001 | B23: 1 11 09025 10 0000 120 | C23: Доходы от распоряжения правами на результаты научно-технической деятельности, находящимися в собственности сельских поселений
A24: 001 | B24: 1 11 09035 10 0000 120 | C24: Доходы от эксплуатации и использования имущества автомобильных дорог, находящихся в собственности сельских поселений
... A55: 001 | B55: 2 00 00000 00 0000 000 | C55: Безвозмездные поступления*
A56: * Главными администраторами доходов, администраторами доходов по группе доходов «2 00 00000 00 0000 000 Безвозмездные поступления» (в части доходов, зачисляемых в бюджет сельского поселения) являются уполномоченные органы местного самоуправления, а также созданные ими казённые учреждения.

Sheet прил4
A1: Приложение №4
A2: к решению Собрания Депутатов Щекинского сельсовета
A3: Рыльского района от_________ №____
A4: "О бюджете Щекинского сельсовета Рыльского района
A5: Курской области на 2021 год и плановый период 2022-2023 годы"
A8: Перечень главных администраторов источников финансирования
A9: дефицита бюджета Щекинского сельсовета Рыльского района Курской области
A12: Код главы | B12: Код группы, подгруппы, статьи и вида источников | C12: Наименование
A13: 001 | B13: Администрация Щекинского сельсовета Рыльского района
A14: 001 | B14: 01 02 00 00 10 0000 710 | C14: Получение кредитов от кредитных организаций бюджетами сельских поселений в валюте Российской Федерации
A15: 001 | B15: 01 02 00 00 10 0000 810 | C15: Погашение бюджетами сельских поселений кредитов от кредитных организаций в валюте Российской Федерации
A16: 001 | B16: 01 03 01 00 10 0000 710 | C16: Получение кредитов от других бюджетов бюджетной системы Российской Федерации бюджетами сельских поселений в валюте Российской Федерации
A17: 001 | B17: 01 03 01 00 10 0000 810 | C17: Погашение бюджетами сельских поселений кредитов от других бюджетов бюджетной системы Российской Федерации в валюте Российской Федерации
A18: 001 | B18: 01 05 02 01 10 0000 510 | C18: Увеличение прочих остатков денежных средств бюджетов сельских поселений
A19: 001 | B19: 01 05 02 01 10 0000 610 | C19: Уменьшение прочих остатков денежных средств бюджетов сельских поселений

Sheet прил5
B1: Приложение № 5
A2: к решению Собрания Депутатов Щекинского сельсовета
A3: Рыльского района от _________ №___
A4: "О бюджете Щекинского сельсовета Рыльского района
A5: Курской области на 2021 год и плановый период 2022 - 2023 годы"
A10: Поступления доходов в бюджет Щекинского сельсовета Рыльского района Курской области и межбюджетных
A11: трансфертов, получаемых из других бюджетов бюджетной системы Российской Федерации в 2021 году
D12: (руб)
A13: Код бюджетной классификации Российской Федерации | B13: Наименование доходов | C13: Уровень кода | D13: Сумма на 2021 год
B14: ВСЕГО | D14: =+D15+D70 -> 1934760
A15: 1 00 00000 00 0000 000 | B15: НАЛОГОВЫЕ И НЕНАЛОГОВЫЕ ДОХОДЫ | C15: 1 | D15: =D16+D21+D25+D33+D36+D44+D51+D59+D65 -> 800014
A16: 1 01 00000 00 0000 000 | B16: НАЛОГИ НА ПРИБЫЛЬ, ДОХОДЫ | C16: 2 | D16: =+D17 -> 125875
A17: 1 01 02000 01 0000 110 | B17: Налог на доходы физических лиц | C17: 3 | D17: =SUM(D18:D20) -> 125875
A18: 1 01 02010 01 0000 110 | B18: Налог на доходы физических лиц с доходов, источником которых является налоговый агент, за исключением доходов, в отношении которых исчисление и уплата налога осуществляются в соответствии со статьями 227, 227.1 и 228 Налогового кодекса Российской Федерации | C18: 4 | D18: 125031
A19: 1 01 02020 01 0000 110 | B19: Налог на доходы физических лиц с доходов, полученных от осуществления деятельности физическими лицами, зарегистрированными в качестве индивидуальных предпринимателей, нотариусов, занимающихся частной практикой, адвокатов, учредивших адвокатские кабинеты, и других лиц, занимающихся частной практикой в соответствии со статьей 227 Налогового кодекса Российской Федерации | C19: 4
A20: 1 01 02030 01 0000 110 | B20: Налог на доходы физических лиц с доходов, полученных физическими лицами в соответствии со статьей 228 Налогового кодекса Российской Федерации | C20: 4 | D20: 844
A21: 1 05 00000 00 0000 000 | B21: НАЛОГИ НА СОВОКУПНЫЙ ДОХОД | C21: 2 | D21: =+D22 -> 66251
A22: 1 05 03000 01 0000 110 | B22: Единый сельскохозяйственный налог | C22: 3 | D22: =SUM(D23:D24) -> 66251
A23: 1 05 03010 01 0000 110 | B23: Единый сельскохозяйственный налог | C23: 4 | D23: 66251
A24: 1 05 03020 01 0000 110 | B24: Единый сельскохозяйственный налог (за налоговые периоды, истекшие до 1 января 2011 года) | C24: 4
A25: 1 06 00000 00 0000 000 | B25: НАЛОГИ НА ИМУЩЕСТВО | C25: 2 | D25: =+D26+D28 -> 604288
A26: 1 06 01000 00 0000 110 | B26: Налог на имущество физических лиц | C26: 3 | D26: =+D27 -> 35900
A27: 1 06 01030 10 0000 110 | B27: Налог на имущество физических лиц, взимаемый по ставкам, применяемым к объектам налогообложения, расположенным в границах сельских поселений | C27: 4 | D27: 35900
A28: 1 06 06000 00 0000 110 | B28: Земельный налог | C28: 3 | D28: =+D29+D31 -> 568388
A29: 1 06 06030 00 0000 110 | B29: Земельный налог с организаций | C29: 4 | D29: =+D30 -> 369450
A30: 1 06 06033 10 0000 110 | B30: Земельный налог с организаций, обладающих земельным участком, расположенным в границах сельских поселений | C30: 5 | D30: 369450
A31: 1 06 06040 00 0000 110 | B31: Земельный налог с физических лиц | C31: 4 | D31: =+D32 -> 198938
A32: 1 06 06043 10 0000 110 | B32: Земельный налог с физических лиц, обладающих земельным участком, расположенным в границах сельских поселений | C32: 5 | D32: 198938
A33: 1 08 00000 00 0000 000 | B33: ГОСУДАРСТВЕННАЯ ПОШЛИНА | C33: 2 | D33: =+D34 -> 0
A34: 1 08 04000 01 0000 110 | B34: Государственная пошлина за совершение нотариальных действий (за исключением действий, совершаемых консульскими учреждениями Российской Федерации) | C34: 3 | D34: =+D35 -> 0
A35: 1 08 04020 01 0000 110 | B35: Государственная пошлина за совершение нотариальных действий должностными лицами органов местного самоуправления, уполномоченными в соответствии с законодательными актами Российской Федерации на совершение нотариальных действий | C35: 4
A36: 1 11 00000 00 0000 000 | B36: ДОХОДЫ ОТ ИСПОЛЬЗОВАНИЯ ИМУЩЕСТВА, НАХОДЯЩЕГОСЯ В ГОСУДАРСТВЕННОЙ И МУНИЦИПАЛЬНОЙ СОБСТВЕННОСТИ | C36: 2 | D36: =+D37 -> 0
A37: 1 11 05000 00 0000 120 | B37: Доходы, получаемые в виде арендной либо иной платы за передачу в возмездное пользование государственного и муниципального имущества (за исключением имущества бюджетных и автономных учреждений, а также имущества государственных и муниципальных унитарных предприятий, в том числе казенных) | C37: 3 | D37: =+D38+D40+D42 -> 0
A38: 1 11 05020 00 0000 120 | B38: Доходы, получаемые в виде арендной платы за земли после разграничения государственной собственности на землю, а также средства от продажи права на заключение договоров аренды указанных земельных участков (за исключением земельных участков бюджетных и автономных учреждений) | C38: 4 | D38: =+D39 -> 0
A39: 1 11 05025 10 0000 120 | B39: Доходы, получаемые в виде арендной платы, а также средства от продажи права на заключение договоров аренды за земли, находящиеся в собственности сельских поселений (за исключением земельных участков муниципальных бюджетных и автономных учреждений) | C39: 5
A40: 1 11 05030 00 0000 120 | B40: Доходы от сдачи в аренду имущества, находящегося в оперативном управлении органов государственной власти, органов местного самоуправления, государственных внебюджетных фондов и созданных ими учреждений (за исключением имущества бюджетных и автономных учреждений) | C40: 4 | D40: =+D41 -> 0
A41: 1 11 05035 10 0000 120 | B41: Доходы от сдачи в аренду имущества, находящегося в оперативном управлении органов управления сельских поселений и созданных ими учреждений (за исключением имущества муниципальных бюджетных и автономных учреждений) | C41: 5
A42: 1 11 05070 00 0000 120 | B42: Доходы от сдачи в аренду имущества, составляющего государственную (муниципальную) казну (за исключением земельных участков) | C42: 4 | D42: =+D43 -> 0
A43: 1 11 05075 10 0000 120 | B43: Доходы от сдачи в аренду имущества, составляющего казну сельских поселений (за исключением земельных участков) | C43: 5
A44: 1 13 00000 00 0000 000 | B44: ДОХОДЫ ОТ ОКАЗАНИЯ ПЛАТНЫХ УСЛУГ (РАБОТ) И КОМПЕНСАЦИИ ЗАТРАТ ГОСУДАРСТВА | C44: 2 | D44: =+D45+D48 -> 3600
...

Sheet прил6
A1: Приложение №6
A2: к решению Собрания Депутатов Щекинского сельсовета
A3: Рыльского района от _________ №___
A4: "О бюджете Щекинского сельсовета Рыльского района
A5: Курской области на 2021 год и плановый период 2022-2023 годы"
A7: Поступления доходов в бюджет Щекинского сельсовета Рыльского района Курской области и межбюджетных трансфертов, получаемых из других бюджетов бюджетной системы Российской Федерации в плановом периоде 2021 и 2022 годов
C9: рублей
A10: Код бюджетной классификации Российской Федерации | B10: Наименование доходов | C10: Уровень кода | D10: Сумма на 2022 год | E10: Сумма на 2023 год
B11: ВСЕГО | D11: =+D12+D64 -> 1139542 | E11: =+E12+E64 -> 1128038
A12: 1 00 00000 00 0000 000 | B12: НАЛОГОВЫЕ И НЕНАЛОГОВЫЕ ДОХОДЫ | C12: 1 | D12: =D13+D18+D22+D30+D33+D41+D45+D53+D59 -> 808373 | E12: =E13+E18+E22+E30+E33+E41+E45+E53+E59 -> 815218
A13: 1 01 00000 00 0000 000 | B13: НАЛОГИ НА ПРИБЫЛЬ, ДОХОДЫ | C13: 2 | D13: =+D14 -> 131650 | E13: =+E14 -> 135810
A14: 1 01 02000 01 0000 110 | B14: Налог на доходы физических лиц | C14: 3 | D14: =SUM(D15:D17) -> 131650 | E14: =SUM(E15:E17) -> 135810
A15: 1 01 02010 01 0000 110 | B15: Налог на доходы физических лиц с доходов, источником которых является налоговый агент, за исключением доходов, в отношении которых исчисление и уплата налога осуществляются в соответствии со статьями 227, 227.1 и 228 Налогового кодекса Российской Федерации | C15: 4 | D15: 130806 | E15: 134966
A16: 1 01 02020 01 0000 110 | B16: Налог на доходы физических лиц с доходов, полученных от осуществления деятельности физическими лицами, зарегистрированными в качестве индивидуальных предпринимателей, нотариусов, занимающихся частной практикой, адвокатов, учредивших адвокатские кабинеты, и других лиц, занимающихся частной практикой в соответствии со статьей 227 Налогового кодекса Российской Федерации | C16: 4
A17: 1 01 02030 01 0000 110 | B17: Налог на доходы физических лиц с доходов, полученных физическими лицами в соответствии со статьей 228 Налогового кодекса Российской Федерации | C17: 4 | D17: 844 | E17: 844
A18: 1 05 00000 00 0000 000 | B18: НАЛОГИ НА СОВОКУПНЫЙ ДОХОД | C18: 2 | D18: =+D19 -> 68835 | E18: =+E19 -> 71520
A19: 1 05 03000 01 0000 110 | B19: Единый сельскохозяйственный налог | C19: 3 | D19: =SUM(D20:D21) -> 68835 | E19: =SUM(E20:E21) -> 71520
A20: 1 05 03010 01 0000 110 | B20: Единый сельскохозяйственный налог | C20: 4 | D20: 68835 | E20: 71520
A21: 1 05 03020 01 0000 110 | B21: Единый сельскохозяйственный налог (за налоговые периоды, истекшие до 1 января 2011 года) | C21: 4
A22: 1 06 00000 00 0000 000 | B22: НАЛОГИ НА ИМУЩЕСТВО | C22: 2 | D22: =+D23+D25 -> 604288 | E22: =+E23+E25 -> 604288
A23: 1 06 01000 00 0000 110 | B23: Налог на имущество физических лиц | C23: 3 | D23: =+D24 -> 35900 | E23: =+E24 -> 35900
A24: 1 06 01030 10 0000 110 | B24: Налог на имущество физических лиц, взимаемый по ставкам, применяемым к объектам налогообложения, расположенным в границах сельских поселений | C24: 4 | D24: 35900 | E24: 35900
A25: 1 06 06000 00 0000 110 | B25: Земельный налог | C25: 3 | D25: =+D26+D28 -> 568388 | E25: =+E26+E28 -> 568388
A26: 1 06 06030 00 0000 110 | B26: Земельный налог с организаций | C26: 4 | D26: =+D27 -> 369450 | E26: =+E27 -> 369450
A27: 1 06 06033 10 0000 110 | B27: Земельный налог с организаций, обладающих земельным участком, расположенным в границах сельских поселений | C27: 5 | D27: 369450 | E27: 369450
A28: 1 06 06040 00 0000 110 | B28: Земельный налог с физических лиц | C28: 4 | D28: =+D29 -> 198938 | E28: =+E29 -> 198938
A29: 1 06 06043 10 0000 110 | B29: Земельный налог с физических лиц, обладающих земельным участком, расположенным в границах сельских поселений | C29: 5 | D29: 198938 | E29: 198938
A30: 1 08 00000 00 0000 000 | B30: ГОСУДАРСТВЕННАЯ ПОШЛИНА | C30: 2 | D30: =+D31 -> 0 | E30: =+E31 -> 0
A31: 1 08 04000 01 0000 110 | B31: Государственная пошлина за совершение нотариальных действий (за исключением действий, совершаемых консульскими учреждениями Российской Федерации) | C31: 3 | D31: =+D32 -> 0 | E31: =+E32 -> 0
A32: 1 08 04020 01 0000 110 | B32: Государственная пошлина за совершение нотариальных действий должностными лицами органов местного самоуправления, уполномоченными в соответствии с законодательными актами Российской Федерации на совершение нотариальных действий | C32: 4
A33: 1 11 00000 00 0000 000 | B33: ДОХОДЫ ОТ ИСПОЛЬЗОВАНИЯ ИМУЩЕСТВА, НАХОДЯЩЕГОСЯ В ГОСУДАРСТВЕННОЙ И МУНИЦИПАЛЬНОЙ СОБСТВЕННОСТИ | C33: 2 | D33: =+D34 -> 0 | E33: =+E34 -> 0
A34: 1 11 05000 00 0000 120 | B34: Доходы, получаемые в виде арендной либо иной платы за передачу в возмездное пользование государственного и муниципального имущества (за исключением имущества бюджетных и автономных учреждений, а также имущества государственных и муниципальных унитарных предприятий, в том числе казенных) | C34: 3 | D34: =+D35+D37+D39 -> 0 | E34: =+E35+E37+E39 -> 0
A35: 1 11 05020 00 0000 120 | B35: Доходы, получаемые в виде арендной платы за земли после разграничения государственной собственности на землю, а также средства от продажи права на заключение договоров аренды указанных земельных участков (за исключением земельных участков бюджетных и автономных учреждений) | C35: 4 | D35: =+D36 -> 0 | E35: =+E36 -> 0
A36: 1 11 05025 10 0000 120 | B36: Доходы, получаемые в виде арендной платы, а также средства от продажи права на заключение договоров аренды за земли, находящиеся в собственности сельских поселений (за исключением земельных участков муниципальных бюджетных и автономных учреждений) | C36: 5 | D36: 0 | E36: 0
A37: 1 11 05030 00 0000 120 | B37: Доходы от сдачи в аренду имущества, находящегося в оперативном управлении органов государственной власти, органов местного самоуправления, государственных внебюджетных фондов и созданных ими учреждений (за исключением имущества бюджетных и автономных учреждений) | C37: 4 | D37: =+D38 -> 0 | E37: =+E38 -> 0
A38: 1 11 05035 10 0000 120 | B38: Доходы от сдачи в аренду имущества, находящегося в оперативном управлении органов управления сельских поселений и созданных ими учреждений (за исключением имущества муниципальных бюджетных и автономных учреждений) | C38: 5
A39: 1 11 05070 00 0000 120 | B39: Доходы от сдачи в аренду имущества, составляющего государственную (муниципальную) казну (за исключением земельных участков) | C39: 4 | D39: =+D40 -> 0 | E39: =+E40 -> 0
A40: 1 11 05075 10 0000 120 | B40: Доходы от сдачи в аренду имущества, составляющего казну сельских поселений (за исключением земельных участков) | C40: 5
A41: 1 13 00000 00 0000 000 | B41: ДОХОДЫ ОТ ОКАЗАНИЯ ПЛАТНЫХ УСЛУГ (РАБОТ) И КОМПЕНСАЦИИ ЗАТРАТ ГОСУДАРСТВА | C41: 2 | D41: =+D42 -> 3600 | E41: =+E42 -> 3600
A42: 1 13 01000 00 0000 130 | B42: Доходы от оказания платных услуг (работ) | C42: 3 | D42: =+D43 -> 3600 | E42: =+E43 -> 3600
...

Sheet прил7
A1: Приложение №7
A2: к решению Собрания Депутатов Щекинского сельсовета
A3: Рыльского района от________ №____
A4: "О бюджете Щекинского сельсовета Рыльского района
A5: Курской области на 2021 год и плановый период 2022 - 2023 годы"
A7: Распределение бюджетных ассигнований по разделам, подразделам, целевым статьям (муниципальным программам Щекинского сельсовета Рыльского района Курской области и непрограммным направлениям деятельности), группам видов расходов классификации расходов бюджета Щекинского сельсовета Рыльского района Курской области на 2019год
H8: рублей
A9: Наименование | B9: Рз | C9: ПР | E9: ЦСР | G9: ВР | H9: Сумма на 2021 год
A10: В С Е Г О | H10: =+H11 -> 1934760 | I10: =+прил9!I10 -> 1934760 | J10: =+H10-I10 -> 0
A11: Администрация Щекинского сельсовета Рыльского района | H11: =+H12+H60+H67+H91+H117+H130+H157+H150 -> 1934760
A12: ОБЩЕГОСУДАРСТВЕННЫЕ ВОПРОСЫ | B12: 01 | H12: =H13+H18+H24+H38+H33 -> 613485
A13: Функционирование высшего должностного лица субъекта Российской Федерации и муниципального образования | B13: 01 | C13: 02 | H13: =+H14 -> 187488
A14: Обеспечение функционирования главы муниципального образования | B14: 01 | C14: 02 | D14: 71 0 | E14: 00 | F14: 00000 | H14: =+H15 -> 187488
A15: Глава муниципального образования | B15: 01 | C15: 02 | D15: 71 1 | E15: 00 | F15: 00000 | H15: =+H16 -> 187488
A16: Обеспечение деятельности и выполнение функций органов местного самоуправления | B16: 01 | C16: 02 | D16: 71 1 | E16: 00 | F16: С1402 | H16: =+H17 -> 187488
A17: Расходы на выплаты персоналу в целях обеспечения выполнения функций государственными (муниципальными) органами, казенными учреждениями, органами управления государственными внебюджетными фондами | B17: 01 | C17: 02 | D17: 71 1 | E17: 00 | F17: С1402 | G17: 100 | H17: =прил9!I17 -> 187488
A18: Функционирование Правительства Российской Федерации, высших исполнительных органов государственной власти субъектов Российской Федерации, местных администраций | B18: 01 | C18: 04 | H18: =+H19 -> 214336
A19: Обеспечение функционирования местных администраций | B19: 01 | C19: 04 | D19: 73 0 | E19: 00 | F19: 00000 | H19: =+H20 -> 214336
A20: Обеспечение деятельности администрации муниципального образования | B20: 01 | C20: 04 | D20: 73 1 | E20: 00 | F20: 00000 | H20: =+H21 -> 214336
A21: Обеспечение деятельности и выполнение функций органов местного самоуправления | B21: 01 | C21: 04 | D21: 73 1 | E21: 00 | F21: С1402 | H21: =SUM(H22:H23) -> 214336
A22: Расходы на выплаты персоналу в целях обеспечения выполнения функций государственными (муниципальными) органами, казенными учреждениями, органами управления государственными внебюджетными фондами | B22: 01 | C22: 04 | D22: 73 1 | E22: 00 | F22: С1402 | G22: 100 | H22: =прил9!I22 -> 214336
A23: Закупка товаров, работ и услуг для обеспечения государственных (муниципальных) нужд | B23: 01 | C23: 04 | D23: 73 1 | E23: 00 | F23: С1402 | G23: 200 | H23: =прил9!I23 -> 0
A24: Обеспечение деятельности финансовых, налоговых и таможенных органов и органов финансового (финансово-бюджетного) надзора | B24: 01 | C24: 06 | H24: =+H25+H29 -> 42670
A25: Обеспечение деятельности контрольно-счетных органов муниципального образования | B25: 01 | C25: 06 | D25: 74 0 | E25: 00 | F25: 00000 | H25: =+H26 -> 36000
A26: Аппарат контрольно-счетного органа муниципального образования | B26: 01 | C26: 06 | D26: 74 3 | E26: 00 | F26: 00000 | H26: =+H27 -> 36000
A27: Иные межбюджетные трансферты на осуществление переданных полномочий в сфере внешнего муниципального финансового контроля | B27: 01 | C27: 06 | D27: 74 3 | E27: 00 | F27: П1484 | H27: =H28 -> 36000
A28: Межбюджетные трансферты | B28: 01 | C28: 06 | D28: 74 3 | E28: 00 | F28: П1484 | G28: 500 | H28: =прил9!I28 -> 36000
A29: Непрограммная деятельность органов местного самоуправления | B29: 01 | C29: 06 | D29: 77 0 | E29: 00 | F29: 00000 | H29: =+H30 -> 6670
A30: Непрограммные расходы органов местного самоуправления | B30: 01 | C30: 06 | D30: 77 2 | E30: 00 | F30: 00000 | H30: =+H31 -> 6670
A31: Осуществление переданных полномочий от поселений муниципальному району в сфере внутреннего муниципального финансового контроля | B31: 01 | C31: 06 | D31: 77 2 | E31: 00 | F31: П1485 | H31: =+H32 -> 6670
A32: Межбюджетные трансферты | B32: 01 | C32: 06 | D32: 77 2 | E32: 00 | F32: П1485 | G32: 500 | H32: =прил9!I32 -> 6670
A33: Обеспечение проведения выборов и референдумов | B33: 01 | C33: 07 | H33: =H34 -> 40000
A34: Непрограмная деятельность органов местного самоуправления | B34: 01 | C34: 07 | D34: 74 0 | E34: 00 | F34: 00000 | H34: =+H35 -> 40000
A35: Непрограмные расходы органов местного самоуправления | B35: 01 | C35: 07 | D35: 74 3 | E35: 00 | F35: 00000 | H35: =+H36 -> 40000
A36: Подготовка и проведение выборов | B36: 01 | C36: 07 | D36: 74 3 | E36: 00 | F36: С1441 | H36: =+H37 -> 40000
A37: Специальные расходы | B37: 01 | C37: 07 | D37: 74 3 | E37: 00 | F37: С1441 | G37: 880 | H37: =прил9!I37 -> 40000
A38: Другие общегосударственные вопросы | B38: 01 | C38: 13 | H38: =H39+H44+H49+H55 -> 128991
A39: Муниципальная программа Щекинского сельсовета Рыльского района Курской области «Энергосбережение и повышение энергетической эффективности Щекинского сельсовета Рыльского района Курской области на период 2010– 2015 годы и на перспективу до 2020 года» | B39: 01 | C39: 13 | D39: 05 0 | E39: 00 | F39: 00000 | H39: =+H40 -> 0
A40: Подпрограмма"Активизация работы по повышению энергоэффективности на территории Щекинского сельсовета " муниципальной программы Щекинского сельсовета Рыльского района Курской области "Энергосбережение и повышение энергетической эффективности Щекинского сельсовета Рыльского района Курской области на период 2010– 2015 годы и на перспективу до 2020 года» | B40: 01 | C40: 13 | D40: 05 1 | E40: 00 | F40: 00000 | H40: =+H41 -> 0
A41: Основное мероприятие "Проведение эффективной энергосберегающей политики в Щекинском сельсовете Рыльского района Курской области" | B41: 01 | C41: 13 | D41: 05 1 | E41: 01 | F41: 00000 | H41: =H42 -> 0
...

Sheet прил8
A1: Приложение № 8
A2: к решению Собрания Депутатов Щекинского сельсовета
A3: Рыльского района от __________ № ____
A4: "О бюджете Щекинского сельсовета Рыльского района
A5: Курской области на 2021 год и плановый период 2022-2023годы"
A7: Распределение бюджетных ассигнований по разделам, подразделам, целевым статьям (муниципальным программам Щекинского сельсовета Рыльского района Курской области и непрограммным направлениям деятельности), группам видов расходов классификации расходов бюджета Щекинского сельсовета Рыльского района Курской области на 2021-2022годы
H8: рублей
A9: Наименование | B9: Рз | C9: ПР | E9: ЦСР | G9: ВР | H9: Сумма на 2022год | I9: Сумма на 2023год | J9: 2021 | K9: 2021
A10: В С Е Г О | H10: =+H12+H54+H61+H85+H99+H112+H135+H11+H128 -> 1139542 | I10: =+I12+I54+I61+I85+I99+I112+I135+I11+I128 -> 1128038 | J10: =прил10!I10 -> 1139542 | K10: =H10-J10 -> 0
A11: Условно утвержденные расходы | H11: =прил10!I11 -> 26234 | I11: =прил10!J11 -> 51715
A12: ОБЩЕГОСУДАРСТВЕННЫЕ ВОПРОСЫ | B12: 01 | H12: =H13+H18+H24+H33 -> 353353 | I12: =I13+I18+I24+I33 -> 346120
A13: Функционирование высшего должностного лица субъекта Российской Федерации и муниципального образования | B13: 01 | C13: 02 | H13: =+H14 -> 117180 | I13: =+I14 -> 117180 | J13: 2022 | K13: 2022
A14: Обеспечение функционирования главы муниципального образования | B14: 01 | C14: 02 | D14: 71 0 | E14: 00 | F14: 00000 | H14: =+H15 -> 117180 | I14: =+I15 -> 117180 | J14: =прил10!J10 -> 1128038 | K14: =I10-J14 -> 0
A15: Глава муниципального образования | B15: 01 | C15: 02 | D15: 71 1 | E15: 00 | F15: 00000 | H15: =+H16 -> 117180 | I15: =+I16 -> 117180
A16: Обеспечение деятельности и выполнение функций органов местного самоуправления | B16: 01 | C16: 02 | D16: 71 1 | E16: 00 | F16: С1402 | H16: =+H17 -> 117180 | I16: =+I17 -> 117180
A17: Расходы на выплаты персоналу в целях обеспечения выполнения функций государственными (муниципальными) органами, казенными учреждениями, органами управления государственными внебюджетными фондами | B17: 01 | C17: 02 | D17: 71 1 | E17: 00 | F17: С1402 | G17: 100 | H17: =+прил10!I17 -> 117180 | I17: =+прил10!J18 -> 117180
A18: Функционирование Правительства Российской Федерации, высших исполнительных органов государственной власти субъектов Российской Федерации, местных администраций | B18: 01 | C18: 04 | H18: =+H19 -> 133960 | I18: =+I19 -> 133960
A19: Обеспечение функционирования местных администраций | B19: 01 | C19: 04 | D19: 73 0 | E19: 00 | F19: 00000 | H19: =+H20 -> 133960 | I19: =+I20 -> 133960
A20: Обеспечение деятельности администрации муниципального образования | B20: 01 | C20: 04 | D20: 73 1 | E20: 00 | F20: 00000 | H20: =+H21 -> 133960 | I20: =+I21 -> 133960
A21: Обеспечение деятельности и выполнение функций органов местного самоуправления | B21: 01 | C21: 04 | D21: 73 1 | E21: 00 | F21: С1402 | H21: =SUM(H22:H23) -> 133960 | I21: =SUM(I22:I23) -> 133960
A22: Расходы на выплаты персоналу в целях обеспечения выполнения функций государственными (муниципальными) органами, казенными учреждениями, органами управления государственными внебюджетными фондами | B22: 01 | C22: 04 | D22: 73 1 | E22: 00 | F22: С1402 | G22: 100 | H22: =+прил10!I23 -> 133960 | I22: =+прил10!J23 -> 133960
A23: Закупка товаров, работ и услуг для обеспечения государственных (муниципальных) нужд | B23: 01 | C23: 04 | D23: 73 1 | E23: 00 | F23: С1402 | G23: 200 | H23: =+прил10!I24 -> 0 | I23: =+прил10!J24 -> 0
A24: Обеспечение деятельности финансовых, налоговых и таможенных органов и органов финансового (финансово-бюджетного) надзора | B24: 01 | C24: 06 | H24: =+H25+H29 -> 42670 | I24: =+I25+I29 -> 42670
A25: Обеспечение деятельности контрольно-счетных органов муниципального образования | B25: 01 | C25: 06 | D25: 74 0 | E25: 00 | F25: 00000 | H25: =+H26 -> 36000 | I25: =+I26 -> 36000
A26: Аппарат контрольно-счетного органа муниципального образования | B26: 01 | C26: 06 | D26: 74 3 | E26: 00 | F26: 00000 | H26: =+H27 -> 36000 | I26: =+I27 -> 36000
A27: Иные межбюджетные трансферты на осуществление переданных полномочий в сфере внешнего муниципального финансового контроля | B27: 01 | C27: 06 | D27: 74 3 | E27: 00 | F27: П1484 | H27: =H28 -> 36000 | I27: =I28 -> 36000
A28: Межбюджетные трансферты | B28: 01 | C28: 06 | D28: 74 3 | E28: 00 | F28: П1484 | G28: 500 | H28: =+прил10!I29 -> 36000 | I28: =+прил10!J29 -> 36000
A29: Непрограммная деятельность органов местного самоуправления | B29: 01 | C29: 06 | D29: 77 0 | E29: 00 | F29: 00000 | H29: =+H30 -> 6670 | I29: =+I30 -> 6670
A30: Непрограммные расходы органов местного самоуправления | B30: 01 | C30: 06 | D30: 77 2 | E30: 00 | F30: 00000 | H30: =+H31 -> 6670 | I30: =+I31 -> 6670
A31: Осуществление переданных полномочий от поселений муниципальному району в сфере внутреннего муниципального финансового контроля | B31: 01 | C31: 06 | D31: 77 2 | E31: 00 | F31: П1485 | H31: =+H32 -> 6670 | I31: =+I32 -> 6670
A32: Межбюджетные трансферты | B32: 01 | C32: 06 | D32: 77 2 | E32: 00 | F32: П1485 | G32: 500 | H32: =+прил10!I33 -> 6670 | I32: =+прил10!J33 -> 6670
A33: Другие общегосударственные вопросы | B33: 01 | C33: 13 | H33: =H34+H39+H44+H49 -> 59543 | I33: =I34+I39+I44+I49 -> 52310
A34: Муниципальная программа Щекинского сельсовета Рыльского района Курской области «Энергосбережение и повышение энергетической эффективности Щекинского сельсовета Рыльского района Курской области на период 2010– 2015 годы и на перспективу до 2020 года» | B34: 01 | C34: 13 | D34: 05 0 | E34: 00 | F34: 00000 | H34: =+H35 -> 0 | I34: =+I35 -> 0
A35: Подпрограмма"Активизация работы по повышению энергоэффективности на территории Щекинского сельсовета " муниципальной программы Щекинского сельсовета Рыльского района Курской области "Энергосбережение и повышение энергетической эффективности Щекинского сельсовета Рыльского района Курской области на период 2010– 2015 годы и на перспективу до 2020 года» | B35: 01 | C35: 13 | D35: 05 1 | E35: 00 | F35: 00000 | H35: =+H36 -> 0 | I35: =+I36 -> 0
A36: Основное мероприятие "Проведение эффективной энергосберегающей политики в Щекинском сельсовете Рыльского района Курской области" | B36: 01 | C36: 13 | D36: 05 1 | E36: 01 | F36: 00000 | H36: =H37 -> 0 | I36: =I37 -> 0
A37: Мероприятия в области энергосбережения | B37: 01 | C37: 13 | D37: 05 1 | E37: 01 | F37: С1434 | H37: =H38 -> 0 | I37: =I38 -> 0
A38: Закупка товаров, работ и услуг для обеспечения государственных (муниципальных) нужд | B38: 01 | C38: 13 | D38: 05 1 | E38: 01 | F38: С1434 | G38: 200 | H38: =+прил10!I38 -> 0 | I38: =+прил10!J39 -> 0
A39: Муниципальная программа Щекинского сельсовета Рыльского района Курской области «Развитие муниципальной службы в Щекинском сельсовете на 2014-2023 годы» | B39: 01 | C39: 13 | D39: 09 0 | E39: 00 | F39: 00000 | H39: =+H40 -> 4295 | I39: =+I40 -> 4295
A40: Подпрограмма «Реализация мероприятий, направленных на развитие муниципальной службы» муниципальной программы «Развитие муниципальной службы в Щекинском сельсовете на 2014-2023 годы» | B40: 01 | C40: 13 | D40: 09 1 | E40: 00 | F40: 00000 | H40: =+H42 -> 4295 | I40: =+I42 -> 4295
A41: Основное мероприятие "Создание максимальных условий для прохождения муниципальной службы и укомплектования органов местного самоуправления высокопрофессиональными кадрами" | B41: 01 | C41: 13 | D41: 09 1 | E41: 01 | F41: 00000 | H41: =H42 -> 4295 | I41: =I42 -> 4295
...

Sheet прил9
A1: Приложение №9
A2: к решению Собрания Депутатов Щекинского сельсовета
A3: Рыльского района от ________ №____
A4: "О бюджете Щекинского сельсовета Рыльского района
A5: Курской области на 2021 год и плановый период 2022-2023годы"
A7: Ведомственная структура расходов бюджета Щекинского сельсовета Рыльского района Курской области на 2021 год
I8: рублей
A9: Наименование | B9: ГРБС | C9: Рз | D9: ПР | F9: ЦСР | H9: ВР | I9: Сумма на 2021 год
A10: В С Е Г О | I10: =+I11 -> 1934760 | J10: =прил5!D14 -> 1934760 | K10: =+I10-J10 -> 0
A11: Администрация Щекинского сельсовета Рыльского района | B11: 001 | I11: =+I12+I60+I67+I91+I117+I130+I157+I150 -> 1934760
A12: ОБЩЕГОСУДАРСТВЕННЫЕ ВОПРОСЫ | B12: 001 | C12: 01 | I12: =I13+I18+I24+I38+I33 -> 613485
A13: Функционирование высшего должностного лица субъекта Российской Федерации и муниципального образования | B13: 001 | C13: 01 | D13: 02 | I13: =+I14 -> 187488
A14: Обеспечение функционирования главы муниципального образования | B14: 001 | C14: 01 | D14: 02 | E14: 71 0 | F14: 00 | G14: 00000 | I14: =+I15 -> 187488
A15: Глава муниципального образования | B15: 001 | C15: 01 | D15: 02 | E15: 71 1 | F15: 00 | G15: 00000 | I15: =+I16 -> 187488
A16: Обеспечение деятельности и выполнение функций органов местного самоуправления | B16: 001 | C16: 01 | D16: 02 | E16: 71 1 | F16: 00 | G16: С1402 | I16: =+I17 -> 187488
A17: Расходы на выплаты персоналу в целях обеспечения выполнения функций государственными (муниципальными) органами, казенными учреждениями, органами управления государственными внебюджетными фондами | B17: 001 | C17: 01 | D17: 02 | E17: 71 1 | F17: 00 | G17: С1402 | H17: 100 | I17: 187488
A18: Функционирование Правительства Российской Федерации, высших исполнительных органов государственной власти субъектов Российской Федерации, местных администраций | B18: 001 | C18: 01 | D18: 04 | I18: =+I19 -> 214336
A19: Обеспечение функционирования местных администраций | B19: 001 | C19: 01 | D19: 04 | E19: 73 0 | F19: 00 | G19: 00000 | I19: =+I20 -> 214336
A20: Обеспечение деятельности администрации муниципального образования | B20: 001 | C20: 01 | D20: 04 | E20: 73 1 | F20: 00 | G20: 00000 | I20: =+I21 -> 214336
A21: Обеспечение деятельности и выполнение функций органов местного самоуправления | B21: 001 | C21: 01 | D21: 04 | E21: 73 1 | F21: 00 | G21: С1402 | I21: =SUM(I22:I23) -> 214336
A22: Расходы на выплаты персоналу в целях обеспечения выполнения функций государственными (муниципальными) органами, казенными учреждениями, органами управления государственными внебюджетными фондами | B22: 001 | C22: 01 | D22: 04 | E22: 73 1 | F22: 00 | G22: С1402 | H22: 100 | I22: 214336
A23: Закупка товаров, работ и услуг для обеспечения государственных (муниципальных) нужд | B23: 001 | C23: 01 | D23: 04 | E23: 73 1 | F23: 00 | G23: С1402 | H23: 200
A24: Обеспечение деятельности финансовых, налоговых и таможенных органов и органов финансового (финансово-бюджетного) надзора | B24: 001 | C24: 01 | D24: 06 | I24: =+I25+I29 -> 42670
A25: Обеспечение деятельности контрольно-счетных органов муниципального образования | B25: 001 | C25: 01 | D25: 06 | E25: 74 0 | F25: 00 | G25: 00000 | I25: =+I26 -> 36000
A26: Аппарат контрольно-счетного органа муниципального образования | B26: 001 | C26: 01 | D26: 06 | E26: 74 3 | F26: 00 | G26: 00000 | I26: =+I27 -> 36000
A27: Иные межбюджетные трансферты на осуществление переданных полномочий в сфере внешнего муниципального финансового контроля | B27: 001 | C27: 01 | D27: 06 | E27: 74 3 | F27: 00 | G27: П1484 | I27: =I28 -> 36000
A28: Межбюджетные трансферты | B28: 001 | C28: 01 | D28: 06 | E28: 74 3 | F28: 00 | G28: П1484 | H28: 500 | I28: 36000
A29: Непрограммная деятельность органов местного самоуправления | B29: 001 | C29: 01 | D29: 06 | E29: 77 0 | F29: 00 | G29: 00000 | I29: =+I30 -> 6670
A30: Непрограммные расходы органов местного самоуправления | B30: 001 | C30: 01 | D30: 06 | E30: 77 2 | F30: 00 | G30: 00000 | I30: =+I31 -> 6670
A31: Осуществление переданных полномочий от поселений муниципальному району в сфере внутреннего муниципального финансового контроля | B31: 001 | C31: 01 | D31: 06 | E31: 77 2 | F31: 00 | G31: П1485 | I31: =+I32 -> 6670
A32: Межбюджетные трансферты | B32: 001 | C32: 01 | D32: 06 | E32: 77 2 | F32: 00 | G32: П1485 | H32: 500 | I32: 6670
A33: Обеспечение проведения выборов и референдумов | B33: 001 | C33: 01 | D33: 07 | I33: =I34 -> 40000
A34: Непрограмная деятельность органов местного самоуправления | B34: 001 | C34: 01 | D34: 07 | E34: 74 0 | F34: 00 | G34: 00000 | I34: =+I35 -> 40000
A35: Непрограмные расходы органов местного самоуправления | B35: 001 | C35: 01 | D35: 07 | E35: 74 3 | F35: 00 | G35: 00000 | I35: =+I36 -> 40000
A36: Подготовка и проведение выборов | B36: 001 | C36: 01 | D36: 07 | E36: 74 3 | F36: 00 | G36: С1441 | I36: =I37 -> 40000
A37: Специальные расходы | B37: 001 | C37: 01 | D37: 07 | E37: 74 3 | F37: 00 | G37: С1441 | H37: 880 | I37: 40000
A38: Другие общегосударственные вопросы | B38: 001 | C38: 01 | D38: 13 | I38: =I39+I44+I49+I55 -> 128991
A39: Муниципальная программа Щекинского сельсовета Рыльского района Курской области «Энергосбережение и повышение энергетической эффективности Щекинского сельсовета Рыльского района Курской области на период 2010– 2015 годы и на перспективу до 2020 года» | B39: 001 | C39: 01 | D39: 13 | E39: 05 0 | F39: 00 | G39: 00000 | I39: =+I40 -> 0
A40: Подпрограмма"Активизация работы по повышению энергоэффективности на территории Щекинского сельсовета " муниципальной программы Щекинского сельсовета Рыльского района Курской области "Энергосбережение и повышение энергетической эффективности Щекинского сельсовета Рыльского района Курской области на период 2010– 2015 годы и на перспективу до 2020 года» | B40: 001 | C40: 01 | D40: 13 | E40: 05 1 | F40: 00 | G40: 00000 | I40: =+I41 -> 0
A41: Основное мероприятие "Проведение эффективной энергосберегающей политики в Щекинском сельсовете Рыльского района Курской области" | B41: 001 | C41: 01 | D41: 13 | E41: 05 1 | F41: 01 | G41: 00000 | I41: =I42 -> 0
...

Sheet Стар8
A1: Приложение №8
A2: к решению Собрания Депутатов Дуровского сельсовета
A3: Рыльского района от 15.12.2014г. № 108
A4: "О бюджете Дуровского сельсовета Рыльского района
A5: Курской области на 2015 год и плановый период 2016 и 2017 годов"
A8: Ведомственная структура расходов бюджета Дуровского сельсовета Рыльского района Курской области на 2015 год
H9: тыс.руб.
A10: Наименование | B10: ГРБС | C10: Рз | D10: ПР | E10: ЦСР | G10: ВР | H10: Сумма
A11: В С Е Г О | H11: =+H12 -> 1516.6
A12: Администрация Дуровского сельсовета Рыльского района Курской области | B12: 001 | H12: =H13+H75+H82+H93+H104+H121+H127+H139+H150 -> 1516.6
A13: ОБЩЕГОСУДАРСТВЕННЫЕ ВОПРОСЫ | B13: 001 | C13: 01 | H13: =H14+H19+H26+H45+H50+H55 -> 883.6
A14: Функционирование высшего должностного лица субъекта Российской Федерации и муниципального образования | B14: 001 | C14: 01 | D14: 02 | H14: =+H15 -> 248.3
A15: Обеспечение функционирования главы муниципального образования | B15: 001 | C15: 01 | D15: 02 | E15: 71 0 | F15: 0000 | H15: =+H16 -> 248.3
A16: Глава муниципального образования | B16: 001 | C16: 01 | D16: 02 | E16: 71 1 | F16: 0000 | H16: =+H17 -> 248.3
A17: Обеспечение деятельности и выполнение функций органов местного самоуправления | B17: 001 | C17: 01 | D17: 02 | E17: 71 1 | F17: 1402 | H17: =+H18 -> 248.3
A18: Расходы на выплаты персоналу в целях обеспечения выполнения функций государственными (муниципальными) органами, казенными учреждениями, органами управления государственными внебюджетными фондами | B18: 001 | C18: 01 | D18: 02 | E18: 71 1 | F18: 1402 | G18: 100 | H18: 248.3
A19: Функционирование Правительства Российской Федерации, высших исполнительных органов государственной власти субъектов Российской Федерации, местных администраций | B19: 001 | C19: 01 | D19: 04 | H19: =+H20 -> 576.5
A20: Обеспечение функционирования местных администраций | B20: 001 | C20: 01 | D20: 04 | E20: 73 0 | F20: 0000 | H20: =+H21 -> 576.5
A21: Обеспечение деятельности администрации муниципального образования | B21: 001 | C21: 01 | D21: 04 | E21: 73 1 | F21: 0000 | H21: =+H22 -> 576.5
A22: Обеспечение деятельности и выполнение функций органов местного самоуправления | B22: 001 | C22: 01 | D22: 04 | E22: 73 1 | F22: 1402 | H22: =SUM(H23:H25) -> 576.5
A23: Расходы на выплаты персоналу в целях обеспечения выполнения функций государственными (муниципальными) органами, казенными учреждениями, органами управления государственными внебюджетными фондами | B23: 001 | C23: 01 | D23: 04 | E23: 73 1 | F23: 1402 | G23: 100 | H23: 546.9
A24: Закупка товаров, работ и услуг для государственных (муниципальных) нужд | B24: 001 | C24: 01 | D24: 04 | E24: 73 1 | F24: 1402 | G24: 200 | H24: 17.6
A25: Иные бюджетные ассигнования | B25: 001 | C25: 01 | D25: 04 | E25: 73 1 | F25: 1402 | G25: 800 | H25: 12
A26: Обеспечение деятельности финансовых, налоговых и таможенных органов и органов финансового (финансово-бюджетного) надзора | B26: 001 | C26: 01 | D26: 06 | H26: =+H27 -> 37.8
A27: Обеспечение деятельности контрольно-счетных органов муниципального образования | B27: 001 | C27: 01 | D27: 06 | E27: 74 0 | F27: 0000 | H27: =+H28+H33+H38+H43 -> 37.8
A28: Руководитель контрольно-счетного органа муниципального образования | B28: 001 | C28: 01 | D28: 06 | E28: 74 1 | F28: 0000 | H28: =+H29 -> 0
A29: Обеспечение деятельности и выполнение функций органов местного самоуправления | B29: 001 | C29: 01 | D29: 06 | E29: 74 1 | F29: 1402 | H29: =SUM(H30:H32) -> 0
A30: Расходы на выплаты персоналу в целях обеспечения выполнения функций государственными (муниципальными) органами, казенными учреждениями, органами управления государственными внебюджетными фондами | B30: 001 | C30: 01 | D30: 06 | E30: 74 1 | F30: 1402 | G30: 100
A31: Закупка товаров, работ и услуг для государственных (муниципальных) нужд | B31: 001 | C31: 01 | D31: 06 | E31: 74 1 | F31: 1402 | G31: 200
A32: Иные бюджетные ассигнования | B32: 001 | C32: 01 | D32: 06 | E32: 74 1 | F32: 1402 | G32: 800
A33: Аудиторы контрольно-счетного органа муниципального образования | B33: 001 | C33: 01 | D33: 06 | E33: 74 2 | F33: 0000 | H33: =+H34 -> 0
A34: Обеспечение деятельности и выполнение функций органов местного самоуправления | B34: 001 | C34: 01 | D34: 06 | E34: 74 2 | F34: 1402 | H34: =SUM(H35:H37) -> 0
A35: Расходы на выплаты персоналу в целях обеспечения выполнения функций государственными (муниципальными) органами, казенными учреждениями, органами управления государственными внебюджетными фондами | B35: 001 | C35: 01 | D35: 06 | E35: 74 2 | F35: 1402 | G35: 100
A36: Закупка товаров, работ и услуг для государственных (муниципальных) нужд | B36: 001 | C36: 01 | D36: 06 | E36: 74 2 | F36: 1402 | G36: 200
A37: Иные бюджетные ассигнования | B37: 001 | C37: 01 | D37: 06 | E37: 74 2 | F37: 1402 | G37: 800
A38: Аппарат контрольно-счетного органа муниципального образования | B38: 001 | C38: 01 | D38: 06 | E38: 74 3 | F38: 0000 | H38: =+H39 -> 0
A39: Обеспечение деятельности и выполнение функций органов местного самоуправления | B39: 001 | C39: 01 | D39: 06 | E39: 74 3 | F39: 1402 | H39: =SUM(H40:H42) -> 0
A40: Расходы на выплаты персоналу в целях обеспечения выполнения функций государственными (муниципальными) органами, казенными учреждениями, органами управления государственными внебюджетными фондами | B40: 001 | C40: 01 | D40: 06 | E40: 74 3 | F40: 1402 | G40: 100
A41: Закупка товаров, работ и услуг для государственных (муниципальных) нужд | B41: 001 | C41: 01 | D41: 06 | E41: 74 3 | F41: 1402 | G41: 200
A42: Иные бюджетные ассигнования | B42: 001 | C42: 01 | D42: 06 | E42: 74 3 | F42: 1402 | G42: 800
...

Sheet прил10
A1: Приложение №10
A2: к решению Собрания Депутатов Щекинского сельсовета
A3: Рыльского района от ________ №_____
A4: "О бюджете Щекинского сельсовета Рыльского района
D5: Курской области на 2021 год и плановый период 2022-2023годы"
A7: Ведомственная структура расходов бюджета Щекинского сельсовета Рыльского района Курской области на плановый период 2022-2023 годы
I8: рублей
A9: Наименование | B9: ГРБС | C9: Рз | D9: ПР | F9: ЦСР | H9: ВР | I9: Сумма на 2022год | J9: Сумма на 2023год
A10: В С Е Г О | I10: =+I12+I11 -> 1139542 | J10: =+J12+J11 -> 1128038 | K10: =I10-прил6!D11 -> 0 | L10: =J10-прил6!E11 -> 0
A11: Условно утвержденные расходы | I11: 26234 | J11: 51715
A12: Администрация Щекинского сельсовета Рыльского района | B12: 001 | I12: =+I13+I55+I62+I86+I100+I113+I136+I129 -> 1113308 | J12: =+J13+J55+J62+J86+J100+J113+J136+J129 -> 1076323 | K12: =прил8!H10 -> 1139542 | L12: =прил8!J14 -> 1128038
A13: ОБЩЕГОСУДАРСТВЕННЫЕ ВОПРОСЫ | B13: 001 | C13: 01 | I13: =I14+I19+I25+I34 -> 353353 | J13: =J14+J19+J25+J34 -> 346120 | K13: =K12-I55 -> 1049354 | L13: =L12-J55 -> 1034292
A14: Функционирование высшего должностного лица субъекта Российской Федерации и муниципального образования | B14: 001 | C14: 01 | D14: 02 | I14: =+I15 -> 117180 | J14: =+J15 -> 117180 | K14: =K13*2.5% -> 26233.85 | L14: =L13*5% -> 51714.6
A15: Обеспечение функционирования главы муниципального образования | B15: 001 | C15: 01 | D15: 02 | E15: 71 0 | F15: 00 | G15: 00000 | I15: =+I16 -> 117180 | J15: =+J16 -> 117180
A16: Глава муниципального образования | B16: 001 | C16: 01 | D16: 02 | E16: 71 1 | F16: 00 | G16: 00000 | I16: =+I17 -> 117180 | J16: =+J17 -> 117180
A17: Обеспечение деятельности и выполнение функций органов местного самоуправления | B17: 001 | C17: 01 | D17: 02 | E17: 71 1 | F17: 00 | G17: С1402 | I17: =+I18 -> 117180 | J17: =+J18 -> 117180
A18: Расходы на выплаты персоналу в целях обеспечения выполнения функций государственными (муниципальными) органами, казенными учреждениями, органами управления государственными внебюджетными фондами | B18: 001 | C18: 01 | D18: 02 | E18: 71 1 | F18: 00 | G18: С1402 | H18: 100 | I18: 117180 | J18: 117180
A19: Функционирование Правительства Российской Федерации, высших исполнительных органов государственной власти субъектов Российской Федерации, местных администраций | B19: 001 | C19: 01 | D19: 04 | I19: =+I20 -> 133960 | J19: =+J20 -> 133960
A20: Обеспечение функционирования местных администраций | B20: 001 | C20: 01 | D20: 04 | E20: 73 0 | F20: 00 | G20: 00000 | I20: =+I21 -> 133960 | J20: =+J21 -> 133960
A21: Обеспечение деятельности администрации муниципального образования | B21: 001 | C21: 01 | D21: 04 | E21: 73 1 | F21: 00 | G21: 00000 | I21: =+I22 -> 133960 | J21: =+J22 -> 133960
A22: Обеспечение деятельности и выполнение функций органов местного самоуправления | B22: 001 | C22: 01 | D22: 04 | E22: 73 1 | F22: 00 | G22: С1402 | I22: =SUM(I23:I24) -> 133960 | J22: =SUM(J23:J24) -> 133960
A23: Расходы на выплаты персоналу в целях обеспечения выполнения функций государственными (муниципальными) органами, казенными учреждениями, органами управления государственными внебюджетными фондами | B23: 001 | C23: 01 | D23: 04 | E23: 73 1 | F23: 00 | G23: С1402 | H23: 100 | I23: 133960 | J23: 133960
A24: Закупка товаров, работ и услуг для обеспечения государственных (муниципальных) нужд | B24: 001 | C24: 01 | D24: 04 | E24: 73 1 | F24: 00 | G24: С1402 | H24: 200
A25: Обеспечение деятельности финансовых, налоговых и таможенных органов и органов финансового (финансово-бюджетного) надзора | B25: 001 | C25: 01 | D25: 06 | I25: =+I26+I30 -> 42670 | J25: =+J26+J30 -> 42670
A26: Обеспечение деятельности контрольно-счетных органов муниципального образования | B26: 001 | C26: 01 | D26: 06 | E26: 74 0 | F26: 00 | G26: 00000 | I26: =+I27 -> 36000 | J26: =+J27 -> 36000
A27: Аппарат контрольно-счетного органа муниципального образования | B27: 001 | C27: 01 | D27: 06 | E27: 74 3 | F27: 00 | G27: 00000 | I27: =+I28 -> 36000 | J27: =+J28 -> 36000
A28: Иные межбюджетные трансферты на осуществление переданных полномочий в сфере внешнего муниципального финансового контроля | B28: 001 | C28: 01 | D28: 06 | E28: 74 3 | F28: 00 | G28: П1484 | I28: =+I29 -> 36000 | J28: =+J29 -> 36000
A29: Межбюджетные трансферты | B29: 001 | C29: 01 | D29: 06 | E29: 74 3 | F29: 00 | G29: П1484 | H29: 500 | I29: 36000 | J29: 36000
A30: Непрограммная деятельность органов местного самоуправления | B30: 001 | C30: 01 | D30: 06 | E30: 77 0 | F30: 00 | G30: 00000 | I30: =+I31 -> 6670 | J30: =+J31 -> 6670
A31: Непрограммные расходы органов местного самоуправления | B31: 001 | C31: 01 | D31: 06 | E31: 77 2 | F31: 00 | G31: 00000 | I31: =+I32 -> 6670 | J31: =+J32 -> 6670
A32: Осуществление переданных полномочий от поселений муниципальному району в сфере внутреннего муниципального финансового контроля | B32: 001 | C32: 01 | D32: 06 | E32: 77 2 | F32: 00 | G32: П1485 | I32: =+I33 -> 6670 | J32: =+J33 -> 6670
A33: Межбюджетные трансферты | B33: 001 | C33: 01 | D33: 06 | E33: 77 2 | F33: 00 | G33: П1485 | H33: 500 | I33: 6670 | J33: 6670
A34: Другие общегосударственные вопросы | B34: 001 | C34: 01 | D34: 13 | I34: =I35+I40+I45+I50 -> 59543 | J34: =J35+J40+J45+J50 -> 52310
A35: Муниципальная программа Щекинского сельсовета Рыльского района Курской области «Энергосбережение и повышение энергетической эффективности Щекинского сельсовета Рыльского района Курской области на период 2010– 2015 годы и на перспективу до 2020 года» | B35: 001 | C35: 01 | D35: 13 | E35: 05 0 | F35: 00 | G35: 00000 | I35: =+I36 -> 0 | J35: =+J36 -> 0
A36: Подпрограмма"Активизация работы по повышению энергоэффективности на территории Щекинского сельсовета " муниципальной программы Щекинского сельсовета Рыльского района Курской области "Энергосбережение и повышение энергетической эффективности Щекинского сельсовета Рыльского района Курской области на период 2010– 2015 годы и на перспективу до 2020 года» | B36: 001 | C36: 01 | D36: 13 | E36: 05 1 | F36: 00 | G36: 00000 | I36: =+I37 -> 0 | J36: =+J37 -> 0
A37: Основное мероприятие "Проведение эффективной энергосберегающей политики в Щекинском сельсовете Рыльского района Курской области" | B37: 001 | C37: 01 | D37: 13 | E37: 05 1 | F37: 01 | G37: 00000 | I37: =I38 -> 0 | J37: =J38 -> 0
A38: Мероприятия в области энергосбережения | B38: 001 | C38: 01 | D38: 13 | E38: 05 1 | F38: 01 | G38: С1434 | I38: =I39 -> 0 | J38: =J39 -> 0
A39: Закупка товаров, работ и услуг для обеспечения государственных (муниципальных) нужд | B39: 001 | C39: 01 | D39: 13 | E39: 05 1 | F39: 01 | G39: С1434 | H39: 200
A40: Муниципальная программа Щекинского сельсовета Рыльского района Курской области «Развитие муниципальной службы в Щекинском сельсовете на 2014-2023 годы» | B40: 001 | C40: 01 | D40: 13 | E40: 09 0 | F40: 00 | G40: 00000 | I40: =+I41 -> 4295 | J40: =+J41 -> 4295
A41: Подпрограмма «Реализация мероприятий, направленных на развитие муниципальной службы» муниципальной программы «Развитие муниципальной службы в Щекинском сельсовете на 2014-2023 годы» | B41: 001 | C41: 01 | D41: 13 | E41: 09 1 | F41: 00 | G41: 00000 | I41: =+I43 -> 4295 | J41: =+J43 -> 4295
...

Sheet Прил11
A1: Приложение № 11
A2: к решению Собрания Депутатов Щекинского сельсовета
A3: Рыльского района от __________ №___
A4: "О бюджете Щекинского сельсовета Рыльского района
A5: Курской области на 2021 год и плановый период 2022-2023годы"
A7: Распределение бюджетных ассигнований по целевым статьям (муниципальным программам Щекинского сельсовета Рыльского района Курской области и непрограммным направлениям деятельности), группам видов расходов классификации расходов бюджета Щекинского сельсовета Рыльского района Курской области на 2021 год
I8: рублей
A9: Наименование | F9: ЦСР | H9: ВР | I9: Сумма
A10: В С Е Г О | I10: =+I11+I32+I44+I51+I60+I65+I70+I77+I94+I98+I103+I111+I117+I89+I27+I107 -> 1934760 | J10: =+прил9!I10 -> 1934760 | K10: =+I10-J10 -> 0
A11: Муниципальная программа Щекинского сельсовета Рыльского района Курской области «Развитие культуры в Щекинском сельсовете Рыльского района Курской области на 2014-2023 годы» | B11: 001 | C11: 08 | D11: 01 | E11: 01 0 | F11: 00 | G11: 00000 | I11: =+I12+I23 -> 1047738
A12: Подпрограмма «Развитие народного творчества и культурно-досуговой деятельности в Щекинском сельсовете Рыльского района Курской области» муниципальной программы Щекинского сельсовета Рыльского района Курской области «Развитие культуры в Щекинском сельсовете Рыльского района Курской области на 2014-2023 годы» | B12: 001 | C12: 08 | D12: 01 | E12: 01 1 | F12: 00 | G12: 00000 | I12: =+I13 -> 1047738
A13: Основное мероприятие "Организация культурно-досуговой деятельности" | B13: 001 | C13: 08 | D13: 01 | E13: 01 1 | F13: 01 | G13: 00000 | I13: =I14+I16+I18 -> 1047738
A14: Заработная плата и начисления на выплаты по оплате труда работников учреждений культуры муниципальных образований городских и сельских поселений | B14: 001 | C14: 08 | D14: 01 | E14: 01 1 | F14: 01 | G14: 13330 | I14: =I15 -> 478126
A15: Расходы на выплаты персоналу в целях обеспечения выполнения функций государственными (муниципальными) органами, казенными учреждениями, органами управления государственными внебюджетными фондами | B15: 001 | C15: 08 | D15: 01 | E15: 01 1 | F15: 01 | G15: 13330 | H15: 100 | I15: =+прил9!I136 -> 478126
